Package: ChemmineOB Version: 1.48.0 Command: /home/biocbuild/bbs-3.22-bioc/R/bin/R CMD INSTALL ChemmineOB StartedAt: 2025-11-11 15:16:00 -0500 (Tue, 11 Nov 2025) EndedAt: 2025-11-11 15:17:51 -0500 (Tue, 11 Nov 2025) EllapsedTime: 110.9 seconds RetCode: 0 Status: OK