Package: ChemmineOB Version: 1.46.0 Command: /home/biocbuild/R/R/bin/R CMD INSTALL ChemmineOB StartedAt: 2025-10-13 20:23:11 -0000 (Mon, 13 Oct 2025) EndedAt: 2025-10-13 20:23:23 -0000 (Mon, 13 Oct 2025) EllapsedTime: 12.0 seconds RetCode: 1 Status: ERROR