Package: ChemmineOB Version: 1.48.0 Command: /Library/Frameworks/R.framework/Resources/bin/R CMD INSTALL ChemmineOB StartedAt: 2025-11-03 15:06:31 -0500 (Mon, 03 Nov 2025) EndedAt: 2025-11-03 15:06:33 -0500 (Mon, 03 Nov 2025) EllapsedTime: 2.6 seconds RetCode: 1 Status: ERROR