Package: ChemmineOB Version: 1.48.0 Command: /Library/Frameworks/R.framework/Resources/bin/R CMD build --keep-empty-dirs --no-resave-data ChemmineOB StartedAt: 2025-11-03 15:54:34 -0500 (Mon, 03 Nov 2025) EndedAt: 2025-11-03 15:54:38 -0500 (Mon, 03 Nov 2025) EllapsedTime: 4.1 seconds RetCode: 1 Status: ERROR PackageFile: None PackageFileSize: NA