Package: ChIPsim Version: 1.64.0 Command: /home/biocbuild/R/R/bin/R CMD INSTALL ChIPsim StartedAt: 2025-11-13 22:01:01 -0000 (Thu, 13 Nov 2025) EndedAt: 2025-11-13 22:01:39 -0000 (Thu, 13 Nov 2025) EllapsedTime: 37.7 seconds RetCode: 0 Status: OK