Package: ChIPsim Version: 1.64.0 Command: /home/biocbuild/R/R/bin/R CMD build --keep-empty-dirs --no-resave-data ChIPsim StartedAt: 2025-11-14 00:31:00 -0000 (Fri, 14 Nov 2025) EndedAt: 2025-11-14 00:32:31 -0000 (Fri, 14 Nov 2025) EllapsedTime: 91.0 seconds RetCode: 0 Status: OK PackageFile: ChIPsim_1.64.0.tar.gz PackageFileSize: 636.7 KiB