Package: ChIPsim Version: 1.64.0 Command: /home/biocbuild/bbs-3.22-bioc/R/bin/R CMD INSTALL ChIPsim StartedAt: 2025-11-11 15:56:37 -0500 (Tue, 11 Nov 2025) EndedAt: 2025-11-11 15:57:09 -0500 (Tue, 11 Nov 2025) EllapsedTime: 32.4 seconds RetCode: 0 Status: OK