Package: ChIPsim Version: 1.64.0 Command: /home/biocbuild/bbs-3.22-bioc/R/bin/R CMD check --install=check:ChIPsim.install-out.txt --library=/home/biocbuild/bbs-3.22-bioc/R/site-library --timings ChIPsim_1.64.0.tar.gz StartedAt: 2025-11-11 22:10:33 -0500 (Tue, 11 Nov 2025) EndedAt: 2025-11-11 22:14:33 -0500 (Tue, 11 Nov 2025) EllapsedTime: 240.2 seconds RetCode: 0 Status: OK CheckDir: ChIPsim.Rcheck Warnings: 0