Package: ChIPsim Version: 1.62.0 Command: /home/biocbuild/bbs-3.21-bioc/R/bin/R CMD INSTALL ChIPsim StartedAt: 2025-09-28 16:06:55 -0400 (Sun, 28 Sep 2025) EndedAt: 2025-09-28 16:07:23 -0400 (Sun, 28 Sep 2025) EllapsedTime: 28.7 seconds RetCode: 0 Status: OK