Package: ChIPsim Version: 1.62.0 Command: /Library/Frameworks/R.framework/Resources/bin/R CMD INSTALL ChIPsim StartedAt: 2025-10-13 16:33:04 -0400 (Mon, 13 Oct 2025) EndedAt: 2025-10-13 16:34:04 -0400 (Mon, 13 Oct 2025) EllapsedTime: 60.9 seconds RetCode: 0 Status: OK