Package: ChIPsim Version: 1.62.0 Command: rm -rf ChIPsim.buildbin-libdir && mkdir ChIPsim.buildbin-libdir && /Users/biocbuild/BBS/utils/build-universal.sh ChIPsim_1.62.0.tar.gz /Library/Frameworks/R.framework/Resources/bin/R ChIPsim.buildbin-libdir StartedAt: 2025-10-14 13:02:06 -0400 (Tue, 14 Oct 2025) EndedAt: 2025-10-14 13:03:29 -0400 (Tue, 14 Oct 2025) EllapsedTime: 83.4 seconds RetCode: 0 Status: OK PackageFile: ChIPsim_1.62.0.tgz PackageFileSize: 760 KiB