Package: ChIPseqR Version: 1.64.0 Command: /home/biocbuild/R/R/bin/R CMD INSTALL ChIPseqR StartedAt: 2025-11-13 22:02:30 -0000 (Thu, 13 Nov 2025) EndedAt: 2025-11-13 22:03:15 -0000 (Thu, 13 Nov 2025) EllapsedTime: 44.9 seconds RetCode: 0 Status: OK