Package: ChIPseqR Version: 1.64.0 Command: /home/biocbuild/bbs-3.22-bioc/R/bin/R CMD build --keep-empty-dirs --no-resave-data --md5 ChIPseqR StartedAt: 2025-11-13 16:50:51 -0500 (Thu, 13 Nov 2025) EndedAt: 2025-11-13 16:52:05 -0500 (Thu, 13 Nov 2025) EllapsedTime: 74.1 seconds RetCode: 0 Status: OK PackageFile: ChIPseqR_1.64.0.tar.gz PackageFileSize: 731 KiB