Package: ChIPseqR Version: 1.62.0 Command: /home/biocbuild/bbs-3.21-bioc/R/bin/R CMD INSTALL ChIPseqR StartedAt: 2025-09-28 16:09:17 -0400 (Sun, 28 Sep 2025) EndedAt: 2025-09-28 16:09:52 -0400 (Sun, 28 Sep 2025) EllapsedTime: 34.3 seconds RetCode: 0 Status: OK