Package: ChIPseqR Version: 1.62.0 Command: /Library/Frameworks/R.framework/Resources/bin/R CMD INSTALL ChIPseqR StartedAt: 2025-10-13 16:35:24 -0400 (Mon, 13 Oct 2025) EndedAt: 2025-10-13 16:36:39 -0400 (Mon, 13 Oct 2025) EllapsedTime: 75.2 seconds RetCode: 0 Status: OK