Package: ChIPseqR Version: 1.62.0 Command: /Library/Frameworks/R.framework/Resources/bin/R CMD INSTALL ChIPseqR StartedAt: 2025-09-29 18:11:18 -0400 (Mon, 29 Sep 2025) EndedAt: 2025-09-29 18:12:01 -0400 (Mon, 29 Sep 2025) EllapsedTime: 42.5 seconds RetCode: 0 Status: OK