Package: ChIPseqR Version: 1.62.0 Command: /Library/Frameworks/R.framework/Resources/bin/R CMD build --keep-empty-dirs --no-resave-data ChIPseqR StartedAt: 2025-09-29 21:14:33 -0400 (Mon, 29 Sep 2025) EndedAt: 2025-09-29 21:16:05 -0400 (Mon, 29 Sep 2025) EllapsedTime: 92.5 seconds RetCode: 0 Status: OK PackageFile: ChIPseqR_1.62.0.tar.gz PackageFileSize: 729.6 KiB