Package: ChIPseqR Version: 1.62.0 Command: rm -rf ChIPseqR.buildbin-libdir && mkdir ChIPseqR.buildbin-libdir && /Users/biocbuild/BBS/utils/build-universal.sh ChIPseqR_1.62.0.tar.gz /Library/Frameworks/R.framework/Resources/bin/R ChIPseqR.buildbin-libdir StartedAt: 2025-10-01 17:48:38 -0400 (Wed, 01 Oct 2025) EndedAt: 2025-10-01 17:49:24 -0400 (Wed, 01 Oct 2025) EllapsedTime: 46.3 seconds RetCode: 0 Status: OK PackageFile: ChIPseqR_1.62.0.tgz PackageFileSize: 1.509 MiB