Package: ChIPseeker Version: 1.46.1 Command: /home/biocbuild/bbs-3.22-bioc/R/bin/R CMD INSTALL ChIPseeker StartedAt: 2025-11-11 16:04:19 -0500 (Tue, 11 Nov 2025) EndedAt: 2025-11-11 16:05:06 -0500 (Tue, 11 Nov 2025) EllapsedTime: 47.6 seconds RetCode: 0 Status: OK