Package: ChIPseeker Version: 1.46.1 Command: /home/biocbuild/bbs-3.22-bioc/R/bin/R CMD build --keep-empty-dirs --no-resave-data --md5 ChIPseeker StartedAt: 2025-11-11 16:53:14 -0500 (Tue, 11 Nov 2025) EndedAt: 2025-11-11 17:03:57 -0500 (Tue, 11 Nov 2025) EllapsedTime: 642.6 seconds RetCode: 0 Status: OK PackageFile: ChIPseeker_1.46.1.tar.gz PackageFileSize: 7.254 MiB