Package: ChIPseeker Version: 1.46.1 Command: /Library/Frameworks/R.framework/Resources/bin/R CMD INSTALL ChIPseeker StartedAt: 2025-11-10 15:31:32 -0500 (Mon, 10 Nov 2025) EndedAt: 2025-11-10 15:31:52 -0500 (Mon, 10 Nov 2025) EllapsedTime: 19.4 seconds RetCode: 0 Status: OK