Package: ChIPseeker Version: 1.46.1 Command: /Library/Frameworks/R.framework/Resources/bin/R CMD build --keep-empty-dirs --no-resave-data ChIPseeker StartedAt: 2025-11-10 15:55:22 -0500 (Mon, 10 Nov 2025) EndedAt: 2025-11-10 16:00:19 -0500 (Mon, 10 Nov 2025) EllapsedTime: 297.4 seconds RetCode: 0 Status: OK PackageFile: ChIPseeker_1.46.1.tar.gz PackageFileSize: 7.416 MiB