Package: ChIPseeker Version: 1.46.1 Command: rm -rf ChIPseeker.buildbin-libdir && mkdir ChIPseeker.buildbin-libdir && /Users/biocbuild/BBS/utils/build-universal.sh ChIPseeker_1.46.1.tar.gz /Library/Frameworks/R.framework/Resources/bin/R ChIPseeker.buildbin-libdir StartedAt: 2025-11-10 23:14:36 -0500 (Mon, 10 Nov 2025) EndedAt: 2025-11-10 23:14:56 -0500 (Mon, 10 Nov 2025) EllapsedTime: 19.3 seconds RetCode: 0 Status: OK PackageFile: ChIPseeker_1.46.1.tgz PackageFileSize: 7.408 MiB