Package: ChIPpeakAnno Version: 3.44.0 Command: /home/biocbuild/bbs-3.22-bioc/R/bin/R CMD INSTALL ChIPpeakAnno StartedAt: 2025-11-17 18:05:24 -0500 (Mon, 17 Nov 2025) EndedAt: 2025-11-17 18:07:18 -0500 (Mon, 17 Nov 2025) EllapsedTime: 113.5 seconds RetCode: 0 Status: OK