Package: ChIPexoQual Version: 1.34.0 Command: /Library/Frameworks/R.framework/Resources/bin/R CMD INSTALL ChIPexoQual StartedAt: 2025-11-02 15:45:29 -0500 (Sun, 02 Nov 2025) EndedAt: 2025-11-02 15:46:31 -0500 (Sun, 02 Nov 2025) EllapsedTime: 61.5 seconds RetCode: 0 Status: OK