Package: ChIPexoQual Version: 1.34.0 Command: /Library/Frameworks/R.framework/Resources/bin/R CMD build --keep-empty-dirs --no-resave-data ChIPexoQual StartedAt: 2025-10-31 16:31:47 -0400 (Fri, 31 Oct 2025) EndedAt: 2025-10-31 16:34:39 -0400 (Fri, 31 Oct 2025) EllapsedTime: 172.2 seconds RetCode: 0 Status: OK PackageFile: ChIPexoQual_1.34.0.tar.gz PackageFileSize: 2.459 MiB