Package: ChIPexoQual Version: 1.34.0 Command: rm -rf ChIPexoQual.buildbin-libdir && mkdir ChIPexoQual.buildbin-libdir && /Users/biocbuild/BBS/utils/build-universal.sh ChIPexoQual_1.34.0.tar.gz /Library/Frameworks/R.framework/Resources/bin/R ChIPexoQual.buildbin-libdir StartedAt: 2025-11-01 01:26:33 -0400 (Sat, 01 Nov 2025) EndedAt: 2025-11-01 01:27:37 -0400 (Sat, 01 Nov 2025) EllapsedTime: 64.8 seconds RetCode: 0 Status: OK PackageFile: ChIPexoQual_1.34.0.tgz PackageFileSize: 2.523 MiB