Package: ChIPexoQual Version: 1.32.0 Command: /home/biocbuild/R/R/bin/R CMD INSTALL ChIPexoQual StartedAt: 2025-10-09 20:58:26 -0000 (Thu, 09 Oct 2025) EndedAt: 2025-10-09 20:59:30 -0000 (Thu, 09 Oct 2025) EllapsedTime: 64.0 seconds RetCode: 0 Status: OK