Package: ChIPexoQual Version: 1.34.0 Maintainer: Rene Welch MaintainerEmail: welch at stat.wisc.edu git_url: https://git.bioconductor.org/packages/ChIPexoQual git_branch: RELEASE_3_22 git_last_commit: fb0fa9b git_last_commit_date: 2025-10-29 10:36:27 -0400 (Wed, 29 Oct 2025)