Package: ChIPanalyser Version: 1.32.0 Command: /home/biocbuild/bbs-3.22-bioc/R/bin/R CMD check --install=check:ChIPanalyser.install-out.txt --library=/home/biocbuild/bbs-3.22-bioc/R/site-library --timings ChIPanalyser_1.32.0.tar.gz StartedAt: 2025-11-14 22:09:25 -0500 (Fri, 14 Nov 2025) EndedAt: 2025-11-14 22:14:39 -0500 (Fri, 14 Nov 2025) EllapsedTime: 314.3 seconds RetCode: 0 Status: OK CheckDir: ChIPanalyser.Rcheck Warnings: 0