Package: ChIPanalyser Version: 1.32.0 Command: /home/biocbuild/bbs-3.22-bioc/R/bin/R CMD build --keep-empty-dirs --no-resave-data --md5 ChIPanalyser StartedAt: 2025-11-11 16:52:33 -0500 (Tue, 11 Nov 2025) EndedAt: 2025-11-11 17:08:05 -0500 (Tue, 11 Nov 2025) EllapsedTime: 931.8 seconds RetCode: 0 Status: OK PackageFile: ChIPanalyser_1.32.0.tar.gz PackageFileSize: 1.006 MiB