Package: ChIPXpress Version: 1.54.0 Command: /home/biocbuild/bbs-3.22-bioc/R/bin/R CMD INSTALL ChIPXpress StartedAt: 2025-11-11 16:06:12 -0500 (Tue, 11 Nov 2025) EndedAt: 2025-11-11 16:06:42 -0500 (Tue, 11 Nov 2025) EllapsedTime: 29.3 seconds RetCode: 0 Status: OK