Package: ChIPXpress Version: 1.54.0 Command: /home/biocbuild/bbs-3.22-bioc/R/bin/R CMD build --keep-empty-dirs --no-resave-data --md5 ChIPXpress StartedAt: 2025-11-11 16:53:37 -0500 (Tue, 11 Nov 2025) EndedAt: 2025-11-11 16:54:26 -0500 (Tue, 11 Nov 2025) EllapsedTime: 49.0 seconds RetCode: 0 Status: OK PackageFile: ChIPXpress_1.54.0.tar.gz PackageFileSize: 448.5 KiB