Package: ChIPXpress Version: 1.52.0 Command: /home/biocbuild/bbs-3.21-bioc/R/bin/R CMD INSTALL ChIPXpress StartedAt: 2025-10-15 16:00:22 -0400 (Wed, 15 Oct 2025) EndedAt: 2025-10-15 16:00:52 -0400 (Wed, 15 Oct 2025) EllapsedTime: 29.3 seconds RetCode: 0 Status: OK