Package: ChIPXpress Version: 1.52.0 Command: /home/biocbuild/bbs-3.21-bioc/R/bin/R CMD build --keep-empty-dirs --no-resave-data ChIPXpress StartedAt: 2025-10-15 16:44:06 -0400 (Wed, 15 Oct 2025) EndedAt: 2025-10-15 16:45:00 -0400 (Wed, 15 Oct 2025) EllapsedTime: 54.1 seconds RetCode: 0 Status: OK PackageFile: ChIPXpress_1.52.0.tar.gz PackageFileSize: 447.8 KiB