Package: ChIPXpress Version: 1.52.0 Command: /Library/Frameworks/R.framework/Resources/bin/R CMD INSTALL ChIPXpress StartedAt: 2025-10-13 18:41:23 -0400 (Mon, 13 Oct 2025) EndedAt: 2025-10-13 18:41:59 -0400 (Mon, 13 Oct 2025) EllapsedTime: 35.6 seconds RetCode: 0 Status: OK