Package: ChIPXpress Version: 1.52.0 Command: /Library/Frameworks/R.framework/Resources/bin/R CMD build --keep-empty-dirs --no-resave-data ChIPXpress StartedAt: 2025-10-13 21:08:07 -0400 (Mon, 13 Oct 2025) EndedAt: 2025-10-13 21:09:07 -0400 (Mon, 13 Oct 2025) EllapsedTime: 60.6 seconds RetCode: 0 Status: OK PackageFile: ChIPXpress_1.52.0.tar.gz PackageFileSize: 448 KiB