Package: ChIPQC Version: 1.46.0 Command: /home/biocbuild/R/R/bin/R CMD INSTALL ChIPQC StartedAt: 2025-11-20 22:54:13 -0000 (Thu, 20 Nov 2025) EndedAt: 2025-11-20 22:55:24 -0000 (Thu, 20 Nov 2025) EllapsedTime: 70.3 seconds RetCode: 0 Status: OK