Package: ChIPQC Version: 1.46.0 Command: /home/biocbuild/R/R/bin/R CMD build --keep-empty-dirs --no-resave-data ChIPQC StartedAt: 2025-11-21 01:09:48 -0000 (Fri, 21 Nov 2025) EndedAt: 2025-11-21 01:11:42 -0000 (Fri, 21 Nov 2025) EllapsedTime: 113.0 seconds RetCode: 0 Status: OK PackageFile: ChIPQC_1.46.0.tar.gz PackageFileSize: 1.517 MiB