Package: ChIPQC Version: 1.44.0 Command: /home/biocbuild/bbs-3.21-bioc/R/bin/R CMD INSTALL ChIPQC StartedAt: 2025-10-15 16:00:20 -0400 (Wed, 15 Oct 2025) EndedAt: 2025-10-15 16:01:15 -0400 (Wed, 15 Oct 2025) EllapsedTime: 54.8 seconds RetCode: 0 Status: OK