Package: ChIPQC Version: 1.44.0 Command: /home/biocbuild/bbs-3.21-bioc/R/bin/R CMD build --keep-empty-dirs --no-resave-data ChIPQC StartedAt: 2025-10-15 16:43:42 -0400 (Wed, 15 Oct 2025) EndedAt: 2025-10-15 16:45:06 -0400 (Wed, 15 Oct 2025) EllapsedTime: 84.1 seconds RetCode: 0 Status: OK PackageFile: ChIPQC_1.44.0.tar.gz PackageFileSize: 1.523 MiB