Package: ChIPQC Version: 1.44.0 Command: rm -rf ChIPQC.buildbin-libdir && mkdir ChIPQC.buildbin-libdir && /Users/biocbuild/BBS/utils/build-universal.sh ChIPQC_1.44.0.tar.gz /Library/Frameworks/R.framework/Resources/bin/R ChIPQC.buildbin-libdir StartedAt: 2025-04-21 22:29:34 -0400 (Mon, 21 Apr 2025) EndedAt: 2025-04-21 22:29:59 -0400 (Mon, 21 Apr 2025) EllapsedTime: 24.5 seconds RetCode: 0 Status: OK PackageFile: ChIPQC_1.44.0.tgz PackageFileSize: 2.089 MiB