Package: ChIPQC Version: 1.46.0 Maintainer: Tom Carroll , Rory Stark MaintainerEmail: bioconductor at starkhome.com git_url: https://git.bioconductor.org/packages/ChIPQC git_branch: RELEASE_3_22 git_last_commit: bf87702 git_last_commit_date: 2025-10-29 10:18:53 -0400 (Wed, 29 Oct 2025)