Package: ChIPComp Version: 1.38.0 Command: rm -rf ChIPComp.buildbin-libdir && mkdir ChIPComp.buildbin-libdir && E:\biocbuild\bbs-3.21-bioc\R\bin\R.exe CMD INSTALL --build --library=ChIPComp.buildbin-libdir ChIPComp_1.38.0.tar.gz StartedAt: 2025-08-15 08:58:24 -0400 (Fri, 15 Aug 2025) EndedAt: 2025-08-15 08:59:05 -0400 (Fri, 15 Aug 2025) EllapsedTime: 41.7 seconds RetCode: 0 Status: OK PackageFile: ChIPComp_1.38.0.zip PackageFileSize: 645.7 KiB