Package: ChIPComp Version: 1.40.0 Command: /home/biocbuild/bbs-3.22-bioc/R/bin/R CMD check --install=check:ChIPComp.install-out.txt --library=/home/biocbuild/bbs-3.22-bioc/R/site-library --timings ChIPComp_1.40.0.tar.gz StartedAt: 2025-11-11 22:08:49 -0500 (Tue, 11 Nov 2025) EndedAt: 2025-11-11 22:13:12 -0500 (Tue, 11 Nov 2025) EllapsedTime: 263.2 seconds RetCode: 0 Status: OK CheckDir: ChIPComp.Rcheck Warnings: 0