Package: ChIPComp Version: 1.40.0 Command: /home/biocbuild/bbs-3.22-bioc/R/bin/R CMD build --keep-empty-dirs --no-resave-data --md5 ChIPComp StartedAt: 2025-11-13 16:50:21 -0500 (Thu, 13 Nov 2025) EndedAt: 2025-11-13 16:51:14 -0500 (Thu, 13 Nov 2025) EllapsedTime: 53.1 seconds RetCode: 0 Status: OK PackageFile: ChIPComp_1.40.0.tar.gz PackageFileSize: 598.4 KiB