Package: ChIPComp Version: 1.38.0 Command: /Library/Frameworks/R.framework/Resources/bin/R CMD INSTALL ChIPComp StartedAt: 2025-10-06 16:00:19 -0400 (Mon, 06 Oct 2025) EndedAt: 2025-10-06 16:01:24 -0400 (Mon, 06 Oct 2025) EllapsedTime: 64.5 seconds RetCode: 0 Status: OK