Package: ChIPComp Version: 1.38.0 Command: rm -rf ChIPComp.buildbin-libdir && mkdir ChIPComp.buildbin-libdir && /Users/biocbuild/BBS/utils/build-universal.sh ChIPComp_1.38.0.tar.gz /Library/Frameworks/R.framework/Resources/bin/R ChIPComp.buildbin-libdir StartedAt: 2025-10-07 12:49:42 -0400 (Tue, 07 Oct 2025) EndedAt: 2025-10-07 12:51:01 -0400 (Tue, 07 Oct 2025) EllapsedTime: 79.5 seconds RetCode: 0 Status: OK PackageFile: ChIPComp_1.38.0.tgz PackageFileSize: 638.9 KiB