Package: ChIPComp Version: 1.38.0 Command: /home/biocbuild/R/R/bin/R CMD build --keep-empty-dirs --no-resave-data ChIPComp StartedAt: 2025-09-25 23:40:55 -0000 (Thu, 25 Sep 2025) EndedAt: 2025-09-25 23:42:12 -0000 (Thu, 25 Sep 2025) EllapsedTime: 77.0 seconds RetCode: 0 Status: OK PackageFile: ChIPComp_1.38.0.tar.gz PackageFileSize: 590.3 KiB