Package: ChAMP Version: 2.40.0 Command: /home/biocbuild/bbs-3.22-bioc/R/bin/R CMD INSTALL ChAMP StartedAt: 2025-11-11 16:11:28 -0500 (Tue, 11 Nov 2025) EndedAt: 2025-11-11 16:12:32 -0500 (Tue, 11 Nov 2025) EllapsedTime: 64.5 seconds RetCode: 0 Status: OK